BEGIN:VCALENDAR
VERSION:2.0
PRODID:-//wp-events-plugin.com//7.2.3.1//EN
TZID:America/Bogota
X-WR-TIMEZONE:America/Bogota
BEGIN:VEVENT
UID:45@colectivajusticiamujer.org
DTSTART;TZID=America/Bogota;VALUE=DATE:20300130
DTEND;TZID=America/Bogota;VALUE=DATE:20300131
DTSTAMP:20231117T044118Z
URL:https://colectivajusticiamujer.org/eventos/dia-mundial-de-la-no-violen
 cia-y-la-paz-2030-01-30/
SUMMARY:Día Mundial de la No Violencia y la Paz
DESCRIPTION:
END:VEVENT
BEGIN:VTIMEZONE
TZID:America/Bogota
X-LIC-LOCATION:America/Bogota
BEGIN:STANDARD
DTSTART:20290130T000000
TZOFFSETFROM:-0500
TZOFFSETTO:-0500
TZNAME:-05
END:STANDARD
END:VTIMEZONE
END:VCALENDAR