BEGIN:VCALENDAR
VERSION:2.0
PRODID:-//wp-events-plugin.com//7.2.3.1//EN
TZID:America/Bogota
X-WR-TIMEZONE:America/Bogota
BEGIN:VEVENT
UID:3863@colectivajusticiamujer.org
DTSTART;TZID=America/Bogota;VALUE=DATE:20260428
DTEND;TZID=America/Bogota;VALUE=DATE:20260429
DTSTAMP:20231117T045901Z
URL:https://colectivajusticiamujer.org/eventos/dia-internacional-de-las-ni
 nas-en-las-tic-2026-04-28/
SUMMARY:Día Internacional de las Niñas en las TIC
DESCRIPTION:
END:VEVENT
BEGIN:VTIMEZONE
TZID:America/Bogota
X-LIC-LOCATION:America/Bogota
BEGIN:STANDARD
DTSTART:20250428T000000
TZOFFSETFROM:-0500
TZOFFSETTO:-0500
TZNAME:-05
END:STANDARD
END:VTIMEZONE
END:VCALENDAR