BEGIN:VCALENDAR
VERSION:2.0
PRODID:-//wp-events-plugin.com//7.2.3.1//EN
TZID:America/Bogota
X-WR-TIMEZONE:America/Bogota
BEGIN:VEVENT
UID:4366@colectivajusticiamujer.org
DTSTART;TZID=America/Bogota;VALUE=DATE:20321129
DTEND;TZID=America/Bogota;VALUE=DATE:20321130
DTSTAMP:20231118T002947Z
URL:https://colectivajusticiamujer.org/eventos/dia-internacional-de-las-de
 fensoras-de-derechos-humanos-2032-11-29/
SUMMARY:Día Internacional de las Defensoras de Derechos Humanos
DESCRIPTION:
END:VEVENT
BEGIN:VTIMEZONE
TZID:America/Bogota
X-LIC-LOCATION:America/Bogota
BEGIN:STANDARD
DTSTART:20311130T000000
TZOFFSETFROM:-0500
TZOFFSETTO:-0500
TZNAME:-05
END:STANDARD
END:VTIMEZONE
END:VCALENDAR