BEGIN:VCALENDAR
VERSION:2.0
PRODID:-//wp-events-plugin.com//7.2.3.1//EN
TZID:America/Bogota
X-WR-TIMEZONE:America/Bogota
BEGIN:VEVENT
UID:4415@colectivajusticiamujer.org
DTSTART;TZID=America/Bogota;VALUE=DATE:20291210
DTEND;TZID=America/Bogota;VALUE=DATE:20291211
DTSTAMP:20231118T003241Z
URL:https://colectivajusticiamujer.org/eventos/dia-de-la-sociologa-2029-12
 -10/
SUMMARY:Día de la Socióloga
DESCRIPTION:
END:VEVENT
BEGIN:VTIMEZONE
TZID:America/Bogota
X-LIC-LOCATION:America/Bogota
BEGIN:STANDARD
DTSTART:20281210T000000
TZOFFSETFROM:-0500
TZOFFSETTO:-0500
TZNAME:-05
END:STANDARD
END:VTIMEZONE
END:VCALENDAR