BEGIN:VCALENDAR
VERSION:2.0
PRODID:-//wp-events-plugin.com//7.2.3.1//EN
TZID:America/Bogota
X-WR-TIMEZONE:America/Bogota
BEGIN:VEVENT
UID:4251@colectivajusticiamujer.org
DTSTART;TZID=America/Bogota;VALUE=DATE:20311030
DTEND;TZID=America/Bogota;VALUE=DATE:20311031
DTSTAMP:20231118T002406Z
URL:https://colectivajusticiamujer.org/eventos/dia-de-la-antropologa-2031-
 10-30/
SUMMARY:Día de la Antropóloga
DESCRIPTION:
END:VEVENT
BEGIN:VTIMEZONE
TZID:America/Bogota
X-LIC-LOCATION:America/Bogota
BEGIN:STANDARD
DTSTART:20301030T000000
TZOFFSETFROM:-0500
TZOFFSETTO:-0500
TZNAME:-05
END:STANDARD
END:VTIMEZONE
END:VCALENDAR